BEGIN:VCALENDAR
VERSION:2.0
PRODID:-//hacksw/handcal//NONSGML v1.0//EN
CALSCALE:GREGORIAN
BEGIN:VEVENT
LOCATION:
SUMMARY:EUCF Webinar in German
DESCRIPTION:EUCF Webinar in German
DTSTART:20210223T000000
DTEND:20210223T000000
URL;VALUE=URI:https://energy-cities.eu/event/eucf-webinar-in-german/
DTSTAMP:now
UID:65976a9ecf8ad
END:VEVENT
END:VCALENDAR