BEGIN:VCALENDAR
VERSION:2.0
PRODID:-//hacksw/handcal//NONSGML v1.0//EN
CALSCALE:GREGORIAN
BEGIN:VEVENT
LOCATION:
SUMMARY:EUCF webinar for Finland
DESCRIPTION:EUCF webinar for Finland
DTSTART:20200901T100000
DTEND:20200901T123000
URL;VALUE=URI:https://energy-cities.eu/event/eucf-webinar-for-finland/
DTSTAMP:now
UID:659765918f0ee
END:VEVENT
END:VCALENDAR