BEGIN:VCALENDAR
VERSION:2.0
PRODID:-//hacksw/handcal//NONSGML v1.0//EN
CALSCALE:GREGORIAN
BEGIN:VEVENT
LOCATION:
SUMMARY:EUKI BEACON final event
DESCRIPTION:EUKI BEACON final event
DTSTART:20210616T000000
DTEND:20210617T000000
URL;VALUE=URI:https://energy-cities.eu/event/euki-beacon-final-event/
DTSTAMP:now
UID:65976d8ea925d
END:VEVENT
END:VCALENDAR