BEGIN:VCALENDAR
VERSION:2.0
PRODID:-//hacksw/handcal//NONSGML v1.0//EN
CALSCALE:GREGORIAN
BEGIN:VEVENT
LOCATION:
SUMMARY:EUKI Networking Conference 2021
DESCRIPTION:EUKI Networking Conference 2021
DTSTART:20211123T000000
DTEND:20211124T000000
URL;VALUE=URI:https://energy-cities.eu/event/euki-networking-conference-2021/
DTSTAMP:now
UID:65976d0f4744d
END:VEVENT
END:VCALENDAR