BEGIN:VCALENDAR
VERSION:2.0
PRODID:-//hacksw/handcal//NONSGML v1.0//EN
CALSCALE:GREGORIAN
BEGIN:VEVENT
LOCATION:
SUMMARY:EUSEW 2023 &#8211\; Climate Neutrality needs concerted action: why is multi-level governance the solution?
DESCRIPTION:EUSEW 2023 &#8211\; Climate Neutrality needs concerted action: why is multi-level governance the solution?
DTSTART:20230622T160000
DTEND:20230622T173000
URL;VALUE=URI:https://energy-cities.eu/event/eusew-2023-climate-neutrality-needs-concerted-action-why-is-multi-level-governance-the-solution/
DTSTAMP:now
UID:6597776c622f4
END:VEVENT
END:VCALENDAR