BEGIN:VCALENDAR
VERSION:2.0
PRODID:-//hacksw/handcal//NONSGML v1.0//EN
CALSCALE:GREGORIAN
BEGIN:VEVENT
LOCATION:
SUMMARY:EUSEW 2023 &#8211\; Human capacity for the energy and climate transition: what is needed at the local level?
DESCRIPTION:EUSEW 2023 &#8211\; Human capacity for the energy and climate transition: what is needed at the local level?
DTSTART:20230620T143000
DTEND:20230620T160000
URL;VALUE=URI:https://energy-cities.eu/event/eusew-2023-human-capacity-for-the-energy-and-climate-transition-what-is-needed-at-the-local-level/
DTSTAMP:now
UID:65977197912b8
END:VEVENT
END:VCALENDAR