BEGIN:VCALENDAR
VERSION:2.0
PRODID:-//hacksw/handcal//NONSGML v1.0//EN
CALSCALE:GREGORIAN
BEGIN:VEVENT
LOCATION:
SUMMARY:EUSEW 2023 Community-proofing the EU energy system
DESCRIPTION:EUSEW 2023 Community-proofing the EU energy system
DTSTART:20230621T163000
DTEND:20230621T180000
URL;VALUE=URI:https://energy-cities.eu/event/community-proofing-the-eu-energy-system/
DTSTAMP:now
UID:659765e7bbda3
END:VEVENT
END:VCALENDAR