BEGIN:VCALENDAR
VERSION:2.0
PRODID:-//hacksw/handcal//NONSGML v1.0//EN
CALSCALE:GREGORIAN
BEGIN:VEVENT
LOCATION:
SUMMARY:Eating City Summer Campus
DESCRIPTION:Eating City Summer Campus
DTSTART:20220720T000000
DTEND:20220727T000000
URL;VALUE=URI:https://energy-cities.eu/event/eating-city-summer-campus/
DTSTAMP:now
UID:65976d9e0cdc4
END:VEVENT
END:VCALENDAR