BEGIN:VCALENDAR
VERSION:2.0
PRODID:-//hacksw/handcal//NONSGML v1.0//EN
CALSCALE:GREGORIAN
BEGIN:VEVENT
LOCATION:
SUMMARY:Ecological transition and jobs: accelerating green local economies
DESCRIPTION:Ecological transition and jobs: accelerating green local economies
DTSTART:20221108T103000
DTEND:20221108T120000
URL;VALUE=URI:https://energy-cities.eu/event/ecological-transition-and-jobs-accelerating-green-local-economies/
DTSTAMP:now
UID:6597680c777a0
END:VEVENT
END:VCALENDAR