BEGIN:VCALENDAR
VERSION:2.0
PRODID:-//hacksw/handcal//NONSGML v1.0//EN
CALSCALE:GREGORIAN
BEGIN:VEVENT
LOCATION:
SUMMARY:Efficient Buildings Community goes IPA
DESCRIPTION:Efficient Buildings Community goes IPA
DTSTART:20220707T130000
DTEND:20220707T160000
URL;VALUE=URI:https://energy-cities.eu/event/efficient-buildings-community-goes-ipa/
DTSTAMP:now
UID:65976bdd43c01
END:VEVENT
END:VCALENDAR