BEGIN:VCALENDAR
VERSION:2.0
PRODID:-//hacksw/handcal//NONSGML v1.0//EN
CALSCALE:GREGORIAN
BEGIN:VEVENT
LOCATION:
SUMMARY:Efficient Buildings Digital Days #2
DESCRIPTION:Efficient Buildings Digital Days #2
DTSTART:20210615T000000
DTEND:20210617T000000
URL;VALUE=URI:https://energy-cities.eu/event/efficient-buildings-digital-days-2/
DTSTAMP:now
UID:65976a282cb5f
END:VEVENT
END:VCALENDAR