BEGIN:VCALENDAR
VERSION:2.0
PRODID:-//hacksw/handcal//NONSGML v1.0//EN
CALSCALE:GREGORIAN
BEGIN:VEVENT
LOCATION:
SUMMARY:Efficient building strategies: The Renovation Wave seen by national energy agencies
DESCRIPTION:Efficient building strategies: The Renovation Wave seen by national energy agencies
DTSTART:20201211T100000
DTEND:20201211T110000
URL;VALUE=URI:https://energy-cities.eu/event/efficient-building-strategies-the-renovation-wave-seen-by-national-energy-agencies/
DTSTAMP:now
UID:659764144a390
END:VEVENT
END:VCALENDAR