BEGIN:VCALENDAR
VERSION:2.0
PRODID:-//hacksw/handcal//NONSGML v1.0//EN
CALSCALE:GREGORIAN
BEGIN:VEVENT
LOCATION:
SUMMARY:Empowering citizens for the heat transition
DESCRIPTION:Empowering citizens for the heat transition
DTSTART:20230314T100000
DTEND:20230314T120000
URL;VALUE=URI:https://energy-cities.eu/event/empowering-citizens-for-the-heat-transition/
DTSTAMP:now
UID:6597635e81a39
END:VEVENT
END:VCALENDAR