BEGIN:VCALENDAR
VERSION:2.0
PRODID:-//hacksw/handcal//NONSGML v1.0//EN
CALSCALE:GREGORIAN
BEGIN:VEVENT
LOCATION:
SUMMARY:En route vers la neutralité carbone dans les municipalités allemandes et françaises
DESCRIPTION:En route vers la neutralité carbone dans les municipalités allemandes et françaises
DTSTART:20211206T000000
DTEND:20211207T000000
URL;VALUE=URI:https://energy-cities.eu/fr/evenement/en-route-vers-la-neutralite-carbone-dans-les-municipalites-allemandes-et-francaises/
DTSTAMP:now
UID:65976adc9a7a8
END:VEVENT
END:VCALENDAR