BEGIN:VCALENDAR
VERSION:2.0
PRODID:-//hacksw/handcal//NONSGML v1.0//EN
CALSCALE:GREGORIAN
BEGIN:VEVENT
LOCATION:
SUMMARY:Energie citoyenne\, communautés énergétiques&#8230\; Et les collectivités ?
DESCRIPTION:Energie citoyenne\, communautés énergétiques&#8230\; Et les collectivités ?
DTSTART:20191205T103000
DTEND:20191205T120000
URL;VALUE=URI:https://energy-cities.eu/fr/evenement/energie-citoyenne-quelle-implication-des-collectivites-locales/
DTSTAMP:now
UID:6597707becb72
END:VEVENT
END:VCALENDAR