BEGIN:VCALENDAR
VERSION:2.0
PRODID:-//hacksw/handcal//NONSGML v1.0//EN
CALSCALE:GREGORIAN
BEGIN:VEVENT
LOCATION:
SUMMARY:Energy Cities&#8217\; members chat: How can municipalities work with EU Energy Saving plans to meet an unprecedented energy crisis?
DESCRIPTION:Energy Cities&#8217\; members chat: How can municipalities work with EU Energy Saving plans to meet an unprecedented energy crisis?
DTSTART:20220906T140000
DTEND:20220906T150000
URL;VALUE=URI:https://energy-cities.eu/event/energy-cities-members-chat-how-can-municipalities-work-with-eu-energy-saving-plans-to-meet-an-unprecedented-energy-crisis/
DTSTAMP:now
UID:659765f33cc59
END:VEVENT
END:VCALENDAR