BEGIN:VCALENDAR
VERSION:2.0
PRODID:-//hacksw/handcal//NONSGML v1.0//EN
CALSCALE:GREGORIAN
BEGIN:VEVENT
LOCATION:
SUMMARY:Energy Cities General Assembly
DESCRIPTION:Energy Cities General Assembly
DTSTART:20210421T090000
DTEND:20210421T123000
URL;VALUE=URI:https://energy-cities.eu/event/energy-cities-general-assembly/
DTSTAMP:now
UID:6597765c0a7c5
END:VEVENT
END:VCALENDAR