BEGIN:VCALENDAR
VERSION:2.0
PRODID:-//hacksw/handcal//NONSGML v1.0//EN
CALSCALE:GREGORIAN
BEGIN:VEVENT
LOCATION:
SUMMARY:Energy Cities matchmaking 2023 &#8211\; informative sessions  about EU funding opportunities
DESCRIPTION:Energy Cities matchmaking 2023 &#8211\; informative sessions  about EU funding opportunities
DTSTART:20230119T143000
DTEND:20230119T163000
URL;VALUE=URI:https://energy-cities.eu/event/energy-cities-matchmaking-2023-informative-sessions/
DTSTAMP:now
UID:65976c4f6e980
END:VEVENT
END:VCALENDAR