BEGIN:VCALENDAR
VERSION:2.0
PRODID:-//hacksw/handcal//NONSGML v1.0//EN
CALSCALE:GREGORIAN
BEGIN:VEVENT
LOCATION:
SUMMARY:Energy Cities matchmaking sessions
DESCRIPTION:Energy Cities matchmaking sessions
DTSTART:20230209T000000
DTEND:20230213T000000
URL;VALUE=URI:https://energy-cities.eu/event/energy-cities-matchmaking-sessions/
DTSTAMP:now
UID:659770849c736
END:VEVENT
END:VCALENDAR