BEGIN:VCALENDAR
VERSION:2.0
PRODID:-//hacksw/handcal//NONSGML v1.0//EN
CALSCALE:GREGORIAN
BEGIN:VEVENT
LOCATION:
SUMMARY:Energy Communities\, Living up to their Full Potential?
DESCRIPTION:Energy Communities\, Living up to their Full Potential?
DTSTART:20211201T150500
DTEND:20211201T155500
URL;VALUE=URI:https://energy-cities.eu/event/energy-communities-living-up-to-their-full-potential/
DTSTAMP:now
UID:6597774b35f1f
END:VEVENT
END:VCALENDAR