BEGIN:VCALENDAR
VERSION:2.0
PRODID:-//hacksw/handcal//NONSGML v1.0//EN
CALSCALE:GREGORIAN
BEGIN:VEVENT
LOCATION:
SUMMARY:Energy Communities &#8211\; Solving global challenges locally
DESCRIPTION:Energy Communities &#8211\; Solving global challenges locally
DTSTART:20231012T093000
DTEND:20231012T103000
URL;VALUE=URI:https://energy-cities.eu/event/energy-communities-solving-global-challenges-locally/
DTSTAMP:now
UID:6597695dd66a2
END:VEVENT
END:VCALENDAR