BEGIN:VCALENDAR
VERSION:2.0
PRODID:-//hacksw/handcal//NONSGML v1.0//EN
CALSCALE:GREGORIAN
BEGIN:VEVENT
LOCATION:
SUMMARY:Energy Communities Repository: Launch of the Technical Assistance
DESCRIPTION:Energy Communities Repository: Launch of the Technical Assistance
DTSTART:20220621T220000
DTEND:20220621T120000
URL;VALUE=URI:https://energy-cities.eu/event/energy-communities-repository-launch-of-the-technical-assistance/
DTSTAMP:now
UID:65976523ec88a
END:VEVENT
END:VCALENDAR