BEGIN:VCALENDAR
VERSION:2.0
PRODID:-//hacksw/handcal//NONSGML v1.0//EN
CALSCALE:GREGORIAN
BEGIN:VEVENT
LOCATION:
SUMMARY:Energy Improvement Districts: an Instrument for Local Cooperation on Energy Efficiency
DESCRIPTION:Energy Improvement Districts: an Instrument for Local Cooperation on Energy Efficiency
DTSTART:20200901T140000
DTEND:20200901T153000
URL;VALUE=URI:https://energy-cities.eu/event/energy-improvement-districts-an-instrument-for-local-cooperation-on-energy-efficiency/
DTSTAMP:now
UID:659771ae36b28
END:VEVENT
END:VCALENDAR