BEGIN:VCALENDAR
VERSION:2.0
PRODID:-//hacksw/handcal//NONSGML v1.0//EN
CALSCALE:GREGORIAN
BEGIN:VEVENT
LOCATION:
SUMMARY:Energy Lunch Talk 1 &#8211\; Energy communities as accelerators for PEDs development
DESCRIPTION:Energy Lunch Talk 1 &#8211\; Energy communities as accelerators for PEDs development
DTSTART:20220216T130000
DTEND:20220216T140000
URL;VALUE=URI:https://energy-cities.eu/event/energy-lunch-talk/
DTSTAMP:now
UID:65976ea9df95e
END:VEVENT
END:VCALENDAR