BEGIN:VCALENDAR
VERSION:2.0
PRODID:-//hacksw/handcal//NONSGML v1.0//EN
CALSCALE:GREGORIAN
BEGIN:VEVENT
LOCATION:
SUMMARY:Energy Lunch Talk 2 &#8211\; Instruments for collective renovation of the built environment
DESCRIPTION:Energy Lunch Talk 2 &#8211\; Instruments for collective renovation of the built environment
DTSTART:20220223T130000
DTEND:20220223T140000
URL;VALUE=URI:https://energy-cities.eu/event/energy-lunch-talk-instruments-for-collective-renovation-of-the-built-environment/
DTSTAMP:now
UID:659776fe3b794
END:VEVENT
END:VCALENDAR