BEGIN:VCALENDAR
VERSION:2.0
PRODID:-//hacksw/handcal//NONSGML v1.0//EN
CALSCALE:GREGORIAN
BEGIN:VEVENT
LOCATION:
SUMMARY:Energy Lunch Talk 3 &#8211\; Urban Planning instrument supporting &#038\; accelerating PEDs implementation &#038\; district transformation
DESCRIPTION:Energy Lunch Talk 3 &#8211\; Urban Planning instrument supporting &#038\; accelerating PEDs implementation &#038\; district transformation
DTSTART:20220302T130000
DTEND:20220302T140000
URL;VALUE=URI:https://energy-cities.eu/event/energy-lunch-talk-urban-planning-instrument-supporting-accelerating-peds-implementation-district-transformation/
DTSTAMP:now
UID:65976a0c9c6a3
END:VEVENT
END:VCALENDAR