BEGIN:VCALENDAR
VERSION:2.0
PRODID:-//hacksw/handcal//NONSGML v1.0//EN
CALSCALE:GREGORIAN
BEGIN:VEVENT
LOCATION:
SUMMARY:Energy Lunch Talk 4 &#8211\; Activation of developers &#038\; institutional building owners for PEDs
DESCRIPTION:Energy Lunch Talk 4 &#8211\; Activation of developers &#038\; institutional building owners for PEDs
DTSTART:20220309T130000
DTEND:20220309T140000
URL;VALUE=URI:https://energy-cities.eu/event/energy-lunch-talk-activation-of-developers-institutional-building-owners-for-peds/
DTSTAMP:now
UID:65976b8b8e758
END:VEVENT
END:VCALENDAR