BEGIN:VCALENDAR
VERSION:2.0
PRODID:-//hacksw/handcal//NONSGML v1.0//EN
CALSCALE:GREGORIAN
BEGIN:VEVENT
LOCATION:
SUMMARY:Energy Lunch Talk 5 &#8211\; City-wide organisation for energy district implementation
DESCRIPTION:Energy Lunch Talk 5 &#8211\; City-wide organisation for energy district implementation
DTSTART:20220316T130000
DTEND:20220316T140000
URL;VALUE=URI:https://energy-cities.eu/event/energy-lunch-talk-city-wide-organisation-for-energy-district-implementation/
DTSTAMP:now
UID:659764f8108fb
END:VEVENT
END:VCALENDAR