BEGIN:VCALENDAR
VERSION:2.0
PRODID:-//hacksw/handcal//NONSGML v1.0//EN
CALSCALE:GREGORIAN
BEGIN:VEVENT
LOCATION:
SUMMARY:Energy Poverty Advisory Hub Launch Event
DESCRIPTION:Energy Poverty Advisory Hub Launch Event
DTSTART:20211122T090000
DTEND:20211123T140000
URL;VALUE=URI:https://energy-cities.eu/event/energy-poverty-advisory-hub-launch-event/
DTSTAMP:now
UID:65976ab16cfc9
END:VEVENT
END:VCALENDAR