BEGIN:VCALENDAR
VERSION:2.0
PRODID:-//hacksw/handcal//NONSGML v1.0//EN
CALSCALE:GREGORIAN
BEGIN:VEVENT
LOCATION:
SUMMARY:Energy Systems Integration Stories
DESCRIPTION:Energy Systems Integration Stories
DTSTART:20200519T130000
DTEND:20200519T141500
URL;VALUE=URI:https://energy-cities.eu/event/energy-systems-integration-stories/
DTSTAMP:now
UID:6597771a65e58
END:VEVENT
END:VCALENDAR