BEGIN:VCALENDAR
VERSION:2.0
PRODID:-//hacksw/handcal//NONSGML v1.0//EN
CALSCALE:GREGORIAN
BEGIN:VEVENT
LOCATION:
SUMMARY:Energy Transition Learning Relay &#8211\; Second edition
DESCRIPTION:Energy Transition Learning Relay &#8211\; Second edition
DTSTART:20210311T140000
DTEND:20210311T160000
URL;VALUE=URI:https://energy-cities.eu/event/energy-transition-learning-relay-second-edition/
DTSTAMP:now
UID:659777d5f2736
END:VEVENT
END:VCALENDAR