BEGIN:VCALENDAR
VERSION:2.0
PRODID:-//hacksw/handcal//NONSGML v1.0//EN
CALSCALE:GREGORIAN
BEGIN:VEVENT
LOCATION:
SUMMARY:Energy Transition Roadmapping Masterclass #2
DESCRIPTION:Energy Transition Roadmapping Masterclass #2
DTSTART:20220519T000000
DTEND:20220519T000000
URL;VALUE=URI:https://energy-cities.eu/event/energy-transition-roadmapping-webinar/
DTSTAMP:now
UID:65976f0c22dcd
END:VEVENT
END:VCALENDAR