BEGIN:VCALENDAR
VERSION:2.0
PRODID:-//hacksw/handcal//NONSGML v1.0//EN
CALSCALE:GREGORIAN
BEGIN:VEVENT
LOCATION:
SUMMARY:Energy agencies and Renewable Energy Communities. A new path for energy decentralization
DESCRIPTION:Energy agencies and Renewable Energy Communities. A new path for energy decentralization
DTSTART:20221125T100000
DTEND:20221125T140000
URL;VALUE=URI:https://energy-cities.eu/event/energy-agencies-and-renewable-energy-communities-a-new-path-for-energy-decentralization/
DTSTAMP:now
UID:65976c4ba650b
END:VEVENT
END:VCALENDAR