BEGIN:VCALENDAR
VERSION:2.0
PRODID:-//hacksw/handcal//NONSGML v1.0//EN
CALSCALE:GREGORIAN
BEGIN:VEVENT
LOCATION:
SUMMARY:Energy assessment and fiscal deduction in Italy
DESCRIPTION:Energy assessment and fiscal deduction in Italy
DTSTART:20210324T093000
DTEND:20210324T113000
URL;VALUE=URI:https://energy-cities.eu/event/energy-assessment-and-fiscal-deduction-in-italy/
DTSTAMP:now
UID:659769c2ab1cc
END:VEVENT
END:VCALENDAR