BEGIN:VCALENDAR
VERSION:2.0
PRODID:-//hacksw/handcal//NONSGML v1.0//EN
CALSCALE:GREGORIAN
BEGIN:VEVENT
LOCATION:
SUMMARY:Energy communities &#038\; cities: the path to establishing new roles &#038\; potentials in local communities
DESCRIPTION:Energy communities &#038\; cities: the path to establishing new roles &#038\; potentials in local communities
DTSTART:20200923T101000
DTEND:20200923T112200
URL;VALUE=URI:https://energy-cities.eu/event/energy-communities-cities-the-path-to-establishing-new-roles-potentials-in-local-communities/
DTSTAMP:now
UID:659768f74a64d
END:VEVENT
END:VCALENDAR