BEGIN:VCALENDAR
VERSION:2.0
PRODID:-//hacksw/handcal//NONSGML v1.0//EN
CALSCALE:GREGORIAN
BEGIN:VEVENT
LOCATION:
SUMMARY:Energy communities for collective self-consumption: frameworks\, practices and tools
DESCRIPTION:Energy communities for collective self-consumption: frameworks\, practices and tools
DTSTART:20200615T000000
DTEND:20200915T000000
URL;VALUE=URI:https://energy-cities.eu/event/energy-communities-for-collective-self-consumption-1-how-regulations-are-shaping-energy-communities/
DTSTAMP:now
UID:6597658511cd8
END:VEVENT
END:VCALENDAR