BEGIN:VCALENDAR
VERSION:2.0
PRODID:-//hacksw/handcal//NONSGML v1.0//EN
CALSCALE:GREGORIAN
BEGIN:VEVENT
LOCATION:
SUMMARY:Energy democracy: mPOWER Digital course
DESCRIPTION:Energy democracy: mPOWER Digital course
DTSTART:20200930T000000
DTEND:20201001T000000
URL;VALUE=URI:https://energy-cities.eu/event/energy-democracy-mpower-digital-course/
DTSTAMP:now
UID:659766672b331
END:VEVENT
END:VCALENDAR