BEGIN:VCALENDAR
VERSION:2.0
PRODID:-//hacksw/handcal//NONSGML v1.0//EN
CALSCALE:GREGORIAN
BEGIN:VEVENT
LOCATION:
SUMMARY:Energy democracy under the microscope
DESCRIPTION:Energy democracy under the microscope
DTSTART:20211013T000000
DTEND:20211014T000000
URL;VALUE=URI:https://energy-cities.eu/event/energy-democracy-under-the-microscope/
DTSTAMP:now
UID:659764a77b07b
END:VEVENT
END:VCALENDAR