BEGIN:VCALENDAR
VERSION:2.0
PRODID:-//hacksw/handcal//NONSGML v1.0//EN
CALSCALE:GREGORIAN
BEGIN:VEVENT
LOCATION:
SUMMARY:Energy matchmaking 2023 &#8211\; Informative session about the Urbact IV Call
DESCRIPTION:Energy matchmaking 2023 &#8211\; Informative session about the Urbact IV Call
DTSTART:20230120T100000
DTEND:20230120T110000
URL;VALUE=URI:https://energy-cities.eu/event/energy-matchmaking-2023-informative-session-about-the-urbact-iv-call/
DTSTAMP:now
UID:659764012ae2c
END:VEVENT
END:VCALENDAR