BEGIN:VCALENDAR
VERSION:2.0
PRODID:-//hacksw/handcal//NONSGML v1.0//EN
CALSCALE:GREGORIAN
BEGIN:VEVENT
LOCATION:
SUMMARY:EuroPACE webinar “Fighting Energy Poverty: Affordable financing for sustainable home renovation&#8221\;
DESCRIPTION:EuroPACE webinar “Fighting Energy Poverty: Affordable financing for sustainable home renovation&#8221\;
DTSTART:20200326T150000
DTEND:20200326T160000
URL;VALUE=URI:https://energy-cities.eu/event/europace-webinar-fighting-energy-poverty-affordable-financing-for-sustainable-home-renovation/
DTSTAMP:now
UID:6597675ce2f78
END:VEVENT
END:VCALENDAR