BEGIN:VCALENDAR
VERSION:2.0
PRODID:-//hacksw/handcal//NONSGML v1.0//EN
CALSCALE:GREGORIAN
BEGIN:VEVENT
LOCATION:
SUMMARY:Europe\, let&#8217\;s cooperate! 2021
DESCRIPTION:Europe\, let&#8217\;s cooperate! 2021
DTSTART:20211124T000000
DTEND:20211125T000000
URL;VALUE=URI:https://energy-cities.eu/event/europe-lets-cooperate-2021/
DTSTAMP:now
UID:65976623daad6
END:VEVENT
END:VCALENDAR