BEGIN:VCALENDAR
VERSION:2.0
PRODID:-//hacksw/handcal//NONSGML v1.0//EN
CALSCALE:GREGORIAN
BEGIN:VEVENT
LOCATION:
SUMMARY:European City Facility: 4th call for grants &#8211\; Launch webinar
DESCRIPTION:European City Facility: 4th call for grants &#8211\; Launch webinar
DTSTART:20220609T103000
DTEND:20220609T114000
URL;VALUE=URI:https://energy-cities.eu/event/eucf-4th-call-launch-webinar/
DTSTAMP:now
UID:659766c5c3c0e
END:VEVENT
END:VCALENDAR