BEGIN:VCALENDAR
VERSION:2.0
PRODID:-//hacksw/handcal//NONSGML v1.0//EN
CALSCALE:GREGORIAN
BEGIN:VEVENT
LOCATION:
SUMMARY:European City Facility &#8211\; Launch Webinar
DESCRIPTION:European City Facility &#8211\; Launch Webinar
DTSTART:20200407T110000
DTEND:20200407T130000
URL;VALUE=URI:https://energy-cities.eu/event/european-city-facility-launch-webinar/
DTSTAMP:now
UID:65976a0524a55
END:VEVENT
END:VCALENDAR