BEGIN:VCALENDAR
VERSION:2.0
PRODID:-//hacksw/handcal//NONSGML v1.0//EN
CALSCALE:GREGORIAN
BEGIN:VEVENT
LOCATION:
SUMMARY:European City Facility &#8211\; Launch webinar Call #3
DESCRIPTION:European City Facility &#8211\; Launch webinar Call #3
DTSTART:20211014T000000
DTEND:20211014T000000
URL;VALUE=URI:https://energy-cities.eu/event/european-city-facility-launch-webinar-call-3/
DTSTAMP:now
UID:65976d434fc7b
END:VEVENT
END:VCALENDAR