BEGIN:VCALENDAR
VERSION:2.0
PRODID:-//hacksw/handcal//NONSGML v1.0//EN
CALSCALE:GREGORIAN
BEGIN:VEVENT
LOCATION:
SUMMARY:European City Facility Call: Brief introduction and Q&#038\;A
DESCRIPTION:European City Facility Call: Brief introduction and Q&#038\;A
DTSTART:20230517T100000
DTEND:20230517T110000
URL;VALUE=URI:https://energy-cities.eu/event/european-city-facility-call-brief-introduction-and-qa/
DTSTAMP:now
UID:65976ee890c3c
END:VEVENT
END:VCALENDAR