BEGIN:VCALENDAR
VERSION:2.0
PRODID:-//hacksw/handcal//NONSGML v1.0//EN
CALSCALE:GREGORIAN
BEGIN:VEVENT
LOCATION:
SUMMARY:European Green Capital Handover and Opening Ceremony
DESCRIPTION:European Green Capital Handover and Opening Ceremony
DTSTART:20210115T000000
DTEND:20210115T130000
URL;VALUE=URI:https://energy-cities.eu/event/european-green-capital-handover-and-opening-ceremony/
DTSTAMP:now
UID:659776703bd52
END:VEVENT
END:VCALENDAR