BEGIN:VCALENDAR
VERSION:2.0
PRODID:-//hacksw/handcal//NONSGML v1.0//EN
CALSCALE:GREGORIAN
BEGIN:VEVENT
LOCATION:
SUMMARY:European Research &#038\; Innovation Days
DESCRIPTION:European Research &#038\; Innovation Days
DTSTART:20220928T000000
DTEND:20220929T000000
URL;VALUE=URI:https://energy-cities.eu/event/european-research-innovation-days/
DTSTAMP:now
UID:65977069c7f0b
END:VEVENT
END:VCALENDAR