BEGIN:VCALENDAR
VERSION:2.0
PRODID:-//hacksw/handcal//NONSGML v1.0//EN
CALSCALE:GREGORIAN
BEGIN:VEVENT
LOCATION:
SUMMARY:European Research and Innovation Days
DESCRIPTION:European Research and Innovation Days
DTSTART:20200922T000000
DTEND:20200924T000000
URL;VALUE=URI:https://energy-cities.eu/event/european-research-and-innovation-days/
DTSTAMP:now
UID:65976554588ed
END:VEVENT
END:VCALENDAR