BEGIN:VCALENDAR
VERSION:2.0
PRODID:-//hacksw/handcal//NONSGML v1.0//EN
CALSCALE:GREGORIAN
BEGIN:VEVENT
LOCATION:
SUMMARY:European Research and Innovation Days
DESCRIPTION:European Research and Innovation Days
DTSTART:20210623T000000
DTEND:20210624T000000
URL;VALUE=URI:https://energy-cities.eu/event/european-research-and-innovation-days-2/
DTSTAMP:now
UID:659777354648d
END:VEVENT
END:VCALENDAR