BEGIN:VCALENDAR
VERSION:2.0
PRODID:-//hacksw/handcal//NONSGML v1.0//EN
CALSCALE:GREGORIAN
BEGIN:VEVENT
LOCATION:
SUMMARY:European Sustainable Energy Week
DESCRIPTION:European Sustainable Energy Week
DTSTART:20220919T000000
DTEND:20220929T000000
URL;VALUE=URI:https://energy-cities.eu/event/european-sustainable-energy-week/
DTSTAMP:now
UID:65976d4fdfc73
END:VEVENT
END:VCALENDAR